BEGIN:VCALENDAR
VERSION:2.0
PRODID:-//wp-events-plugin.com//7.2.3.1//EN
TZID:America/New_York
X-WR-TIMEZONE:America/New_York
BEGIN:VEVENT
UID:76@charlemontfederatedchurch.org
DTSTART;TZID=America/New_York:20251216T160000
DTEND;TZID=America/New_York:20251216T173000
DTSTAMP:20260120T004819Z
URL:https://charlemontfederatedchurch.org/events/good-neighbors-food-distr
 ibution-support-2025-12-16/
SUMMARY:Good Neighbors Food Distribution
DESCRIPTION:
ATTACH;FMTTYPE=image/jpeg:https://charlemontfederatedchurch.org/wp-content
 /uploads/2025/10/file000408207769.jpg
CATEGORIES:Featured Community Events,Good Neighbors
LOCATION:Charlemont Federated Church\, 175 Main Street\, Charlemont\, MA\, 
 01339\, United States
X-APPLE-STRUCTURED-LOCATION;VALUE=URI;X-ADDRESS=175 Main Street\, Charlemon
 t\, MA\, 01339\, United States;X-APPLE-RADIUS=100;X-TITLE=Charlemont Feder
 ated Church:geo:0,0
END:VEVENT
BEGIN:VTIMEZONE
TZID:America/New_York
X-LIC-LOCATION:America/New_York
BEGIN:STANDARD
DTSTART:20251102T010000
TZOFFSETFROM:-0400
TZOFFSETTO:-0500
TZNAME:EST
END:STANDARD
END:VTIMEZONE
END:VCALENDAR