BEGIN:VCALENDAR
VERSION:2.0
PRODID:-//wp-events-plugin.com//7.2.3.1//EN
TZID:America/New_York
X-WR-TIMEZONE:America/New_York
BEGIN:VEVENT
UID:263@charlemontfederatedchurch.org
DTSTART;TZID=America/New_York:20260118T103000
DTEND;TZID=America/New_York:20260118T103000
DTSTAMP:20260115T233222Z
URL:https://charlemontfederatedchurch.org/events/sue-richardson-shares-her
 -spiritual-autobiography/
SUMMARY:Sue Richardson Shares Her Spiritual Autobiography
DESCRIPTION:As part of our Spiritual Life Ministry\, Sue Richardson will sh
 are her spiritual journey following the worship service.
CATEGORIES:Spiritual Life
LOCATION:Charlemont Federated Church\, 175 Main Street\, Charlemont\, MA\, 
 01339\, United States
X-APPLE-STRUCTURED-LOCATION;VALUE=URI;X-ADDRESS=175 Main Street\, Charlemon
 t\, MA\, 01339\, United States;X-APPLE-RADIUS=100;X-TITLE=Charlemont Feder
 ated Church:geo:0,0
END:VEVENT
BEGIN:VTIMEZONE
TZID:America/New_York
X-LIC-LOCATION:America/New_York
BEGIN:STANDARD
DTSTART:20251102T010000
TZOFFSETFROM:-0400
TZOFFSETTO:-0500
TZNAME:EST
END:STANDARD
END:VTIMEZONE
END:VCALENDAR